BEGIN:VCALENDAR
VERSION:2.0
PRODID:-//Prokopim Kab. Kaimana - ECPv6.15.20//NONSGML v1.0//EN
CALSCALE:GREGORIAN
METHOD:PUBLISH
X-WR-CALNAME:Prokopim Kab. Kaimana
X-ORIGINAL-URL:https://prokopim.kaimanakab.go.id
X-WR-CALDESC:Events for Prokopim Kab. Kaimana
REFRESH-INTERVAL;VALUE=DURATION:PT1H
X-Robots-Tag:noindex
X-PUBLISHED-TTL:PT1H
BEGIN:VTIMEZONE
TZID:UTC
BEGIN:STANDARD
TZOFFSETFROM:+0000
TZOFFSETTO:+0000
TZNAME:UTC
DTSTART:20240101T000000
END:STANDARD
END:VTIMEZONE
BEGIN:VEVENT
DTSTART;VALUE=DATE:20251110
DTEND;VALUE=DATE:20251111
DTSTAMP:20260421T095137
CREATED:20251202T075757Z
LAST-MODIFIED:20251202T075757Z
UID:526-1762732800-1762819199@prokopim.kaimanakab.go.id
SUMMARY:Upacara Hari Pahlawan 2025
DESCRIPTION:Dalam rangka meningkatkan rasa nasionalisme dan mengenang jasa para pahlawan Republik Indonesia\, Peringatan Hari Pahlawan di Stadion Triton Kaimana
URL:https://prokopim.kaimanakab.go.id/agenda/upacara-hari-pahlawan-2025/
END:VEVENT
END:VCALENDAR